BEGIN:VCALENDAR
VERSION:2.0
PRODID:-//Tukios.com/
BEGIN:VEVENT
UID:b9d8e0a9-69e8-4c59-a8fb-96b3892296d0@www.adamsfh.com
DTSTAMP:20260423T084300Z
DTSTART:20260417T190000Z
DTEND:20260417T200000Z
SUMMARY:Memorial Service
DESCRIPTION:
URL:https://www.adamsfh.com/obituaries/jarrott-strickland-ii
LOCATION:Adams Funeral Home Chapel 18034 Main Street North  Blountstown 
	FL 32424
GEO:30.4518421;-85.050453
END:VEVENT
END:VCALENDAR